BEGIN:VCALENDAR
VERSION:2.0
PRODID:-//ICEAM - ECPv6.15.20//NONSGML v1.0//EN
CALSCALE:GREGORIAN
METHOD:PUBLISH
X-ORIGINAL-URL:https://iceam.org
X-WR-CALDESC:Events for ICEAM
REFRESH-INTERVAL;VALUE=DURATION:PT1H
X-Robots-Tag:noindex
X-PUBLISHED-TTL:PT1H
BEGIN:VTIMEZONE
TZID:America/Chicago
BEGIN:DAYLIGHT
TZOFFSETFROM:-0600
TZOFFSETTO:-0500
TZNAME:CDT
DTSTART:20170312T080000
END:DAYLIGHT
BEGIN:STANDARD
TZOFFSETFROM:-0500
TZOFFSETTO:-0600
TZNAME:CST
DTSTART:20171105T070000
END:STANDARD
BEGIN:DAYLIGHT
TZOFFSETFROM:-0600
TZOFFSETTO:-0500
TZNAME:CDT
DTSTART:20180311T080000
END:DAYLIGHT
BEGIN:STANDARD
TZOFFSETFROM:-0500
TZOFFSETTO:-0600
TZNAME:CST
DTSTART:20181104T070000
END:STANDARD
BEGIN:DAYLIGHT
TZOFFSETFROM:-0600
TZOFFSETTO:-0500
TZNAME:CDT
DTSTART:20190310T080000
END:DAYLIGHT
BEGIN:STANDARD
TZOFFSETFROM:-0500
TZOFFSETTO:-0600
TZNAME:CST
DTSTART:20191103T070000
END:STANDARD
END:VTIMEZONE
BEGIN:VEVENT
DTSTART;VALUE=DATE:20181013
DTEND;VALUE=DATE:20181015
DTSTAMP:20260424T064455
CREATED:20160823T214202Z
LAST-MODIFIED:20170518T173043Z
UID:3615-1539388800-1539561599@iceam.org
SUMMARY:Chicago - Tian-Lineage Jingui Yaolue Pulse Diagnosis
DESCRIPTION:Diagnosis in Han-dynasty was primarily done by taking the pulse. Every formula can be identified through one or more pulse patterns presenting in the patient. Though many pulses are mentioned in the Jingui Yaolue\, crucial detail is often hidden\, and it is as if this knowledge is merely implicitly present\, as if it were embedded. Therefore\, the Tian Heming Canonical Formula lineage’s main strength and contribution to the field of Chinese medicine to have made this advanced knowledge on pulse diagnosis crystal clear and evident. This knowledge has never been recorded in any book\, but was rather transmitted orally from Dr. Tian Heming through Dr. Zeng Rongxiu to Dr. Arnaud Versluys. The latter of which has been teaching this material around the world in more systematized and structured format since a few years. \nNote regarding the Shanghan Lun and Jingui Yaolue Pulse Seminars: due to the proprietary and complex nature of these seminars\, they cannot be registered for individually and can only be taken as part of the total sequence. The pulse seminars are open for individual registration only to Diplomates of Canonical Chinese Medicine already certified by our institute who wish to retake the seminar.
URL:https://iceam.org/live-course/chicago-tian-lineage-jingui-yaolue-pulse-diagnosis/
LOCATION:ICEAM Chicago\, 65 E. Wacker Pl.\, Chicago\, IL\, 60601\, United States
CATEGORIES:Jingui Yaolue
GEO:41.8865275;-87.6255408
X-APPLE-STRUCTURED-LOCATION;VALUE=URI;X-ADDRESS=ICEAM Chicago 65 E. Wacker Pl. Chicago IL 60601 United States;X-APPLE-RADIUS=500;X-TITLE=65 E. Wacker Pl.:geo:-87.6255408,41.8865275
END:VEVENT
BEGIN:VEVENT
DTSTART;VALUE=DATE:20181023
DTEND;VALUE=DATE:20181026
DTSTAMP:20260424T064455
CREATED:20171220T150428Z
LAST-MODIFIED:20171220T204804Z
UID:5883-1540252800-1540511999@iceam.org
SUMMARY:Sydney - Tian-Zeng Lineage Jingui Yaolue Case Studies and Clinical Strategies
DESCRIPTION:The Shanghan Zabing Lun is the first historical manual to teach the treatment of both acute and chronic complex diseases that have been triggered externally or have arisen from internal damage. Though a classical work\, it is of great clinical value for modern day practice.
URL:https://iceam.org/live-course/sydney-tian-zeng-lineage-shanghan-lun-case-studies-and-clinical-strategies/
LOCATION:ICEAM Sydney\, 826 George St\, Chippendale\, New South Wales\, 2008\, Australia
CATEGORIES:Jingui Yaolue
GEO:-33.884186;151.202517
X-APPLE-STRUCTURED-LOCATION;VALUE=URI;X-ADDRESS=ICEAM Sydney 826 George St Chippendale New South Wales 2008 Australia;X-APPLE-RADIUS=500;X-TITLE=826 George St:geo:151.202517,-33.884186
END:VEVENT
END:VCALENDAR