BEGIN:VCALENDAR
VERSION:2.0
PRODID:-//ICEAM - ECPv6.15.20//NONSGML v1.0//EN
CALSCALE:GREGORIAN
METHOD:PUBLISH
X-ORIGINAL-URL:https://iceam.org
X-WR-CALDESC:Events for ICEAM
REFRESH-INTERVAL;VALUE=DURATION:PT1H
X-Robots-Tag:noindex
X-PUBLISHED-TTL:PT1H
BEGIN:VTIMEZONE
TZID:America/Chicago
BEGIN:DAYLIGHT
TZOFFSETFROM:-0600
TZOFFSETTO:-0500
TZNAME:CDT
DTSTART:20160313T080000
END:DAYLIGHT
BEGIN:STANDARD
TZOFFSETFROM:-0500
TZOFFSETTO:-0600
TZNAME:CST
DTSTART:20161106T070000
END:STANDARD
BEGIN:DAYLIGHT
TZOFFSETFROM:-0600
TZOFFSETTO:-0500
TZNAME:CDT
DTSTART:20170312T080000
END:DAYLIGHT
BEGIN:STANDARD
TZOFFSETFROM:-0500
TZOFFSETTO:-0600
TZNAME:CST
DTSTART:20171105T070000
END:STANDARD
BEGIN:DAYLIGHT
TZOFFSETFROM:-0600
TZOFFSETTO:-0500
TZNAME:CDT
DTSTART:20180311T080000
END:DAYLIGHT
BEGIN:STANDARD
TZOFFSETFROM:-0500
TZOFFSETTO:-0600
TZNAME:CST
DTSTART:20181104T070000
END:STANDARD
END:VTIMEZONE
BEGIN:VEVENT
DTSTART;VALUE=DATE:20170501
DTEND;VALUE=DATE:20170503
DTSTAMP:20260425T062208
CREATED:20150715T101334Z
LAST-MODIFIED:20170518T172852Z
UID:986-1493596800-1493769599@iceam.org
SUMMARY:Amsterdam - Tian-Lineage Jingui Yaolue Pulse Diagnosis
DESCRIPTION:Diagnosis in Han-dynasty was primarily done by taking the pulse. Every formula can be identified through one or more pulse patterns presenting in the patient. Though many pulses are mentioned in the Jingui Yaolue\, crucial detail is often hidden\, and it is as if this knowledge is merely implicitly present\, as if it were embedded. Therefore\, the Tian Heming Canonical Formula lineage’s main strength and contribution to the field of Chinese medicine to have made this advanced knowledge on pulse diagnosis crystal clear and evident. This knowledge has never been recorded in any book\, but was rather transmitted orally from Dr. Tian Heming through Dr. Zeng Rongxiu to Dr. Arnaud Versluys. The latter of which has been teaching this material around the world in more systematized and structured format since a few years. \nNote regarding the Shanghan Lun and Jingui Yaolue Pulse Seminars: due to the proprietary and complex nature of these seminars\, they cannot be registered for individually and can only be taken as part of the total sequence. The pulse seminars are open for individual registration only to Diplomates of Canonical Chinese Medicine already certified by our institute who wish to retake the seminar.
URL:https://iceam.org/live-course/amsterdam-tian-lineage-jingui-yaolue-pulse-diagnosis/
LOCATION:ICEAM Amsterdam\, Academie voor Chinese Geneeswijzen Qing-Bai\, Postbus 31412\, Amsterdam\, CK Nijmegen\, 6503\, Netherlands
CATEGORIES:Jingui Yaolue
GEO:52.3702157;4.8951679
X-APPLE-STRUCTURED-LOCATION;VALUE=URI;X-ADDRESS=ICEAM Amsterdam Academie voor Chinese Geneeswijzen Qing-Bai Postbus 31412 Amsterdam CK Nijmegen 6503 Netherlands;X-APPLE-RADIUS=500;X-TITLE=Academie voor Chinese Geneeswijzen Qing-Bai\, Postbus 31412:geo:4.8951679,52.3702157
END:VEVENT
END:VCALENDAR